BEGIN:VCALENDAR
VERSION:2.0
PRODID:-//Selbstpfadfinder e.V. - ECPv6.15.20//NONSGML v1.0//EN
CALSCALE:GREGORIAN
METHOD:PUBLISH
X-WR-CALNAME:Selbstpfadfinder e.V.
X-ORIGINAL-URL:https://selbstpfadfinder.de
X-WR-CALDESC:Veranstaltungen für Selbstpfadfinder e.V.
REFRESH-INTERVAL;VALUE=DURATION:PT1H
X-Robots-Tag:noindex
X-PUBLISHED-TTL:PT1H
BEGIN:VTIMEZONE
TZID:Europe/Berlin
BEGIN:DAYLIGHT
TZOFFSETFROM:+0100
TZOFFSETTO:+0200
TZNAME:CEST
DTSTART:20240331T010000
END:DAYLIGHT
BEGIN:STANDARD
TZOFFSETFROM:+0200
TZOFFSETTO:+0100
TZNAME:CET
DTSTART:20241027T010000
END:STANDARD
BEGIN:DAYLIGHT
TZOFFSETFROM:+0100
TZOFFSETTO:+0200
TZNAME:CEST
DTSTART:20250330T010000
END:DAYLIGHT
BEGIN:STANDARD
TZOFFSETFROM:+0200
TZOFFSETTO:+0100
TZNAME:CET
DTSTART:20251026T010000
END:STANDARD
BEGIN:DAYLIGHT
TZOFFSETFROM:+0100
TZOFFSETTO:+0200
TZNAME:CEST
DTSTART:20260329T010000
END:DAYLIGHT
BEGIN:STANDARD
TZOFFSETFROM:+0200
TZOFFSETTO:+0100
TZNAME:CET
DTSTART:20261025T010000
END:STANDARD
END:VTIMEZONE
BEGIN:VEVENT
DTSTART;TZID=Europe/Berlin:20250628T150000
DTEND;TZID=Europe/Berlin:20250628T200000
DTSTAMP:20260422T235117
CREATED:20250401T092953Z
LAST-MODIFIED:20250401T104650Z
UID:16631-1751122800-1751140800@selbstpfadfinder.de
SUMMARY:Yoga Retreat – Finde den Pfad zu dir Selbst
DESCRIPTION:Mit unserem Yoga Retreat bieten wir die Möglichkeit\, in einer inklusiven und unterstützenden Atmosphäre Körper und Geist zu verbinden. Unabhängig von deinem Erfahrungslevel kannst du hier entspannen\, neue Energie tanken und dich selbst besser kennenlernen. Die Yoga-Lehrerin Lara\, von Larasana Yoga aus München\, gestaltet ihre Yogaklassen bewusst so\, dass sie für alle erlebbar sind – vom absoluten Anfänger bis zum Fortgeschrittenen. \nWir beginnen das Retreat mit einer gemeinsamen Yogastunde\, danach bist du herzlich dazu eingeladen\, bei unserem nachhaltigen und regionalen Buffet herzhaft zu schlemmen. Den Abend lassen wir dann bei einer Klangschalenmediation und einer Kakaozeremonie ausklingen. Im Anschluss genießen wir unsere Entspannung am Lagerfeuer\, den Sternenhimmel und können die Erlebnisse des Tages Revue passieren lassen. \nFinde deinen Pfad zu mehr Selbstliebe\, Schritt für Schritt\, auf der Yogamatte. Lara und die Selbstpfadfinder e.V. freuen sich\, dich auf diesem Weg zu begleiten. Die Teilnehmerzahl ist auf 16 Personen begrenzt\, der Kurs kostet 79\,- Euro\, eine Anmeldung ist erforderlich.\nDiese Veranstaltung findet teils drinnen und teils draußen statt.
URL:https://selbstpfadfinder.de/veranstaltung/yoga-retreat-pfad-zu-dir-selbst/
LOCATION:Treffpunkt Selbstpfadfinder\, Kirchstraße 13\, Wermersthausen\, 35085
CATEGORIES:Kurse
ORGANIZER;CN="Selbstpfadfinder e.V.":MAILTO:info@selbstpfadfinder.de
END:VEVENT
END:VCALENDAR