BEGIN:VCALENDAR
VERSION:2.0
PRODID:-//Selbstpfadfinder e.V. - ECPv6.15.20//NONSGML v1.0//EN
CALSCALE:GREGORIAN
METHOD:PUBLISH
X-WR-CALNAME:Selbstpfadfinder e.V.
X-ORIGINAL-URL:https://selbstpfadfinder.de
X-WR-CALDESC:Veranstaltungen für Selbstpfadfinder e.V.
REFRESH-INTERVAL;VALUE=DURATION:PT1H
X-Robots-Tag:noindex
X-PUBLISHED-TTL:PT1H
BEGIN:VTIMEZONE
TZID:Europe/Berlin
BEGIN:DAYLIGHT
TZOFFSETFROM:+0100
TZOFFSETTO:+0200
TZNAME:CEST
DTSTART:20240331T010000
END:DAYLIGHT
BEGIN:STANDARD
TZOFFSETFROM:+0200
TZOFFSETTO:+0100
TZNAME:CET
DTSTART:20241027T010000
END:STANDARD
BEGIN:DAYLIGHT
TZOFFSETFROM:+0100
TZOFFSETTO:+0200
TZNAME:CEST
DTSTART:20250330T010000
END:DAYLIGHT
BEGIN:STANDARD
TZOFFSETFROM:+0200
TZOFFSETTO:+0100
TZNAME:CET
DTSTART:20251026T010000
END:STANDARD
BEGIN:DAYLIGHT
TZOFFSETFROM:+0100
TZOFFSETTO:+0200
TZNAME:CEST
DTSTART:20260329T010000
END:DAYLIGHT
BEGIN:STANDARD
TZOFFSETFROM:+0200
TZOFFSETTO:+0100
TZNAME:CET
DTSTART:20261025T010000
END:STANDARD
END:VTIMEZONE
BEGIN:VEVENT
DTSTART;VALUE=DATE:20250721
DTEND;VALUE=DATE:20250726
DTSTAMP:20260422T235131
CREATED:20250401T123133Z
LAST-MODIFIED:20250401T131305Z
UID:16678-1753056000-1753487999@selbstpfadfinder.de
SUMMARY:Zeltlager 2025
DESCRIPTION:Zeltlager im Ebsdorfergrund: Zurück zur Natur\, handyfreie Zeit kreativ entdecken\, Gemeinschaft erleben und dabei spielend auch noch soziale Kompetenzen auffrischen. Ihr seid zwischen 6 und 13 Jahre alt und habt Lust in den Sommerferien ein Abenteuer zu erleben? Auf dem Gelände der vier Kamerunschafe direkt am Teich von Wermertshausen errichten wir ein kleines Eldorado. Drei Ponys und zwei Therapiehunde werden uns unterstützen. Wir werden gemeinsam draußen unser Essen zubereiten\, Stockbrot am Lagerfeuer und den Sternenhimmel genießen. Bei einer Nachtwanderung lauschen wir den Klängen der Natur und gruseln uns in sicherer Begleitung der Betreuer gern ein wenig. Teilnehmerzahl auf 18 begrenzt. Für Essen\, Getränke\, kleine Snacks ist gesorgt\, nicht jeder benötigt ein eigenes Zelt\, Organisatorisches kann gerne per Telefon besprochen werden. \nKosten: 195\,- Euro/Teilnehmer (Geschwisterkinder erhalten einen Rabatt). Anmeldung bis 30.06. möglich. \nDieses Abenteuer\, sowie all unsere Angebote\, soll für jeden Menschen\, der gerne teilnehmen möchte\, möglich sein\, deshalb haben wir uns ein besonderes Preiskonzept überlegt. Mehr dazu findet ihr auf unserer Website\, ihr könnt euch bei Interesse und Fragen gern auch persönlich bei uns melden.
URL:https://selbstpfadfinder.de/veranstaltung/zeltlager-2025/
LOCATION:Schafsweide am Wermertshäuser Teich\, Neben Wermertshäuser Teich\, Wermertshausen\, 35085
CATEGORIES:Zeltlager
ATTACH;FMTTYPE=image/jpeg:https://selbstpfadfinder.de/wp-content/uploads/2025/04/selbstpfadfinder-zeltlager.jpg
ORGANIZER;CN="Selbstpfadfinder e.V.":MAILTO:info@selbstpfadfinder.de
END:VEVENT
END:VCALENDAR