BEGIN:VCALENDAR
VERSION:2.0
PRODID:-//Selbstpfadfinder e.V. - ECPv6.15.20//NONSGML v1.0//EN
CALSCALE:GREGORIAN
METHOD:PUBLISH
X-ORIGINAL-URL:https://selbstpfadfinder.de
X-WR-CALDESC:Veranstaltungen für Selbstpfadfinder e.V.
REFRESH-INTERVAL;VALUE=DURATION:PT1H
X-Robots-Tag:noindex
X-PUBLISHED-TTL:PT1H
BEGIN:VTIMEZONE
TZID:Europe/Berlin
BEGIN:DAYLIGHT
TZOFFSETFROM:+0100
TZOFFSETTO:+0200
TZNAME:CEST
DTSTART:20240331T010000
END:DAYLIGHT
BEGIN:STANDARD
TZOFFSETFROM:+0200
TZOFFSETTO:+0100
TZNAME:CET
DTSTART:20241027T010000
END:STANDARD
BEGIN:DAYLIGHT
TZOFFSETFROM:+0100
TZOFFSETTO:+0200
TZNAME:CEST
DTSTART:20250330T010000
END:DAYLIGHT
BEGIN:STANDARD
TZOFFSETFROM:+0200
TZOFFSETTO:+0100
TZNAME:CET
DTSTART:20251026T010000
END:STANDARD
BEGIN:DAYLIGHT
TZOFFSETFROM:+0100
TZOFFSETTO:+0200
TZNAME:CEST
DTSTART:20260329T010000
END:DAYLIGHT
BEGIN:STANDARD
TZOFFSETFROM:+0200
TZOFFSETTO:+0100
TZNAME:CET
DTSTART:20261025T010000
END:STANDARD
END:VTIMEZONE
BEGIN:VEVENT
DTSTART;TZID=Europe/Berlin:20250928T120000
DTEND;TZID=Europe/Berlin:20250928T170000
DTSTAMP:20260422T191004
CREATED:20250916T080524Z
LAST-MODIFIED:20250916T080525Z
UID:16692-1759060800-1759078800@selbstpfadfinder.de
SUMMARY:HERBSTFEST
DESCRIPTION:Wir haben etwas zu feiern und das gerne mit EUCH! \nWir stellen das Projekt „Starkes Dorf+“ vor. Freut euch auf Livemusik und ein KINDER-MITMACH-KONZERT mit Beate Lambert. Es gibt Mitmach-Stände und jede Menge Tiere. Lernt unsere Ponys\, Schafe\, Ziegen und Hunde\, aber auch unser Gelände und unsere Vereinsarbeit kennen.\nTrommelt mit uns. Seid kreativ mit uns. Genießt die Zeit mit uns! \nWir sehen uns auf unserem Gelände neben dem Wermertshäuser Teich!\nFür das leibliche Wohl ist bestens gesorgt: es gibt Herzhaftes zur Mittagszeit\, sowie Kaffee & Kuchen ab 15 Uhr. Über eine Kuchenspende würden wir uns sehr freuen – meldet diese doch bitte unter 0151 290 490 04 per Anruf oder Whatsapp an.
URL:https://selbstpfadfinder.de/veranstaltung/herbstfest/
LOCATION:Schafsweide am Wermertshäuser Teich\, Neben Wermertshäuser Teich\, Wermertshausen\, 35085
CATEGORIES:Feste
ATTACH;FMTTYPE=image/jpeg:https://selbstpfadfinder.de/wp-content/uploads/2025/09/Web_Flyer_A5_Herbstfest_SPF.jpg
ORGANIZER;CN="Selbstpfadfinder e.V.":MAILTO:info@selbstpfadfinder.de
END:VEVENT
END:VCALENDAR