BEGIN:VCALENDAR
VERSION:2.0
PRODID:-//Selbstpfadfinder e.V. - ECPv6.15.20//NONSGML v1.0//EN
CALSCALE:GREGORIAN
METHOD:PUBLISH
X-WR-CALNAME:Selbstpfadfinder e.V.
X-ORIGINAL-URL:https://selbstpfadfinder.de
X-WR-CALDESC:Veranstaltungen für Selbstpfadfinder e.V.
REFRESH-INTERVAL;VALUE=DURATION:PT1H
X-Robots-Tag:noindex
X-PUBLISHED-TTL:PT1H
BEGIN:VTIMEZONE
TZID:Europe/Berlin
BEGIN:DAYLIGHT
TZOFFSETFROM:+0100
TZOFFSETTO:+0200
TZNAME:CEST
DTSTART:20240331T010000
END:DAYLIGHT
BEGIN:STANDARD
TZOFFSETFROM:+0200
TZOFFSETTO:+0100
TZNAME:CET
DTSTART:20241027T010000
END:STANDARD
BEGIN:DAYLIGHT
TZOFFSETFROM:+0100
TZOFFSETTO:+0200
TZNAME:CEST
DTSTART:20250330T010000
END:DAYLIGHT
BEGIN:STANDARD
TZOFFSETFROM:+0200
TZOFFSETTO:+0100
TZNAME:CET
DTSTART:20251026T010000
END:STANDARD
BEGIN:DAYLIGHT
TZOFFSETFROM:+0100
TZOFFSETTO:+0200
TZNAME:CEST
DTSTART:20260329T010000
END:DAYLIGHT
BEGIN:STANDARD
TZOFFSETFROM:+0200
TZOFFSETTO:+0100
TZNAME:CET
DTSTART:20261025T010000
END:STANDARD
END:VTIMEZONE
BEGIN:VEVENT
DTSTART;VALUE=DATE:20250613
DTEND;VALUE=DATE:20250615
DTSTAMP:20260422T222219
CREATED:20250331T173220Z
LAST-MODIFIED:20250401T104346Z
UID:16594-1749772800-1749945599@selbstpfadfinder.de
SUMMARY:Starke Löwenkidz – Gemischte Gruppe I
DESCRIPTION:„Starke Löwenkidz by Nadine Haude“- Resilienztraining für starke Kinder! \nKinder\, die wissen\, wie sie mit schwierigen Situationen und ihren Gefühlen umgehen\, genießen ihre Kindheit und blicken entspannt in die Zukunft.\nIn diesem Training erfahren die Kinder: -Gelassenheit bei Beleidigungen\, -Umgang mit Wegnehmen eigener Gegenstände\, -Erkennen von Gewaltandrohnungen\, -richtig Hilfe holen. Im Training erwerben die Kinder essentielle Fähigkeiten\, die für ihr Selbstbewusstsein und ihre Resilienz wichtig sind. \nDie Teilnehmerzahl ist pro Kurs auf 8 Kinder begrenzt\, Dauer 6 Stunden\, verteilt auf 2 Tage. Das Programm findet Freitag von 15 bis 18 Uhr und am Samstag von 9 bis 12 Uhr statt. Das Training kostet 100\,- Euro inklusive Getränke und Snacks. Eine Anmeldung ist erforderlich.\nDiese Veranstaltung findet teils drinnen und teils draußen statt.
URL:https://selbstpfadfinder.de/veranstaltung/starke-loewenkidz-gemischte-gruppe-i-2025/
LOCATION:Treffpunkt Selbstpfadfinder\, Kirchstraße 13\, Wermersthausen\, 35085
CATEGORIES:Kurse
ATTACH;FMTTYPE=image/jpeg:https://selbstpfadfinder.de/wp-content/uploads/2024/01/selbstpfadfinder-banner-entspannt-liegen-auf-joe-900x700-1.jpg
ORGANIZER;CN="Selbstpfadfinder e.V.":MAILTO:info@selbstpfadfinder.de
END:VEVENT
BEGIN:VEVENT
DTSTART;TZID=Europe/Berlin:20250624T190000
DTEND;TZID=Europe/Berlin:20250624T203000
DTSTAMP:20260422T222219
CREATED:20250331T165751Z
LAST-MODIFIED:20250401T104722Z
UID:16575-1750791600-1750797000@selbstpfadfinder.de
SUMMARY:Open Drum-Circle 06 (Achtung Dienstag!)
DESCRIPTION:Open Drum-Circle – „Music for the Moment“\nWir ermutigen zum gemeinsamen Musizieren- spontan\, lustvoll und erlebnisorientiert. Wir laden ein zum Trommeln -zur Gemeinschaft\, zum Miteinander. Einander zuhören\, aufeinander zugehen und aufzugehen im gemeinsamen Puls (Beat). \nNeue Rhythmen zu erfinden und Freude zu erleben\, an dem was im Moment entsteht. Es geht uns darum\, auch Nichtmusiker*innen an das aktive Erleben musikalischer Phänomene\, z.B. das Gruppenbewusstsein oder das Gemeinschaftserlebnis (Spirit) heranzuführen. Hierfür setzen wir gezielt Schlaginstrumente ein\, da diese leicht zu bedienen sind und uns so die erwiesene positive Wirkung des Trommelns zu erfahren. Wobei einfach Spaß zu haben\, nicht zu kurz kommt.\nUnser Drum-Circle findet in einer stressfreien\, wertschätzenden und achtsamen Atmosphäre statt.\nErlebe selbst\, wie viel positive Energie beim gemeinsamen Trommeln entsteht! \nGebt was euer Herz euch sagt\, wir freuen uns über jede noch so kleine Spende.
URL:https://selbstpfadfinder.de/veranstaltung/open-drum-circle-06-2025/
LOCATION:Treffpunkt Selbstpfadfinder\, Kirchstraße 13\, Wermersthausen\, 35085
CATEGORIES:Open Drum-Circle
ATTACH;FMTTYPE=image/jpeg:https://selbstpfadfinder.de/wp-content/uploads/2017/04/open-drum-circle.jpg
ORGANIZER;CN="Selbstpfadfinder e.V.":MAILTO:info@selbstpfadfinder.de
END:VEVENT
BEGIN:VEVENT
DTSTART;TZID=Europe/Berlin:20250628T150000
DTEND;TZID=Europe/Berlin:20250628T200000
DTSTAMP:20260422T222219
CREATED:20250401T092953Z
LAST-MODIFIED:20250401T104650Z
UID:16631-1751122800-1751140800@selbstpfadfinder.de
SUMMARY:Yoga Retreat – Finde den Pfad zu dir Selbst
DESCRIPTION:Mit unserem Yoga Retreat bieten wir die Möglichkeit\, in einer inklusiven und unterstützenden Atmosphäre Körper und Geist zu verbinden. Unabhängig von deinem Erfahrungslevel kannst du hier entspannen\, neue Energie tanken und dich selbst besser kennenlernen. Die Yoga-Lehrerin Lara\, von Larasana Yoga aus München\, gestaltet ihre Yogaklassen bewusst so\, dass sie für alle erlebbar sind – vom absoluten Anfänger bis zum Fortgeschrittenen. \nWir beginnen das Retreat mit einer gemeinsamen Yogastunde\, danach bist du herzlich dazu eingeladen\, bei unserem nachhaltigen und regionalen Buffet herzhaft zu schlemmen. Den Abend lassen wir dann bei einer Klangschalenmediation und einer Kakaozeremonie ausklingen. Im Anschluss genießen wir unsere Entspannung am Lagerfeuer\, den Sternenhimmel und können die Erlebnisse des Tages Revue passieren lassen. \nFinde deinen Pfad zu mehr Selbstliebe\, Schritt für Schritt\, auf der Yogamatte. Lara und die Selbstpfadfinder e.V. freuen sich\, dich auf diesem Weg zu begleiten. Die Teilnehmerzahl ist auf 16 Personen begrenzt\, der Kurs kostet 79\,- Euro\, eine Anmeldung ist erforderlich.\nDiese Veranstaltung findet teils drinnen und teils draußen statt.
URL:https://selbstpfadfinder.de/veranstaltung/yoga-retreat-pfad-zu-dir-selbst/
LOCATION:Treffpunkt Selbstpfadfinder\, Kirchstraße 13\, Wermersthausen\, 35085
CATEGORIES:Kurse
ORGANIZER;CN="Selbstpfadfinder e.V.":MAILTO:info@selbstpfadfinder.de
END:VEVENT
END:VCALENDAR